Workbook

Sheet CONVERTER
A1: ver 26.02.2025
B2: TEMPERAMENT CONVERTER | O2: =IF(E20=0,Q20,E20) -> Neidhardt Dorf 1732
B4: The converter of fractions to cents and cents to fractions is based on Witold Maciak's calculation methods and prepared by Weronika Janyst, Witold Maciak, Nicholas Parle and Wojciech Prządka. For simplicity, the Pythagorean comma was used; for clarity some fractions appearing in the second table are simplified approximations.
B8: FRACTIONS TO CENTS
B9: Name of the temperament (optional): | E9: Kirnberger
B10: INSERT the fractions of the selected temperament :
A11: C | B11: C-G | C11: G-D | D11: D-A | E11: A-E | F11: E-B | G11: B-F# | H11: F#-C# | I11: C#-G# | J11: G#-Eb | K11: Eb-Bb | L11: Bb-F | M11: F-C
B12: -0.25 | C12: -0.25 | D12: -0.25 | E12: -0.25 | F12: -0.25 | G12: 0 | H12: 0.16666667 | I12: 0.083333333 | J12: 0.083333333 | K12: 0.083333333 | L12: 0.083333333 | M12: -0.25
B14: END RESULT for a tuning machine (deviations from equal temperament):
B15: A | C15: Bb | D15: B | E15: C | F15: C# | G15: D | H15: Eb | I15: E | J15: F | K15: F# | L15: G | M15: G#
B16: ='Witek na centy'!B30 -> 0 | C16: ='Witek na centy'!C30 -> 12 | D16: ='Witek na centy'!D30 -> -8 | E16: ='Witek na centy'!E30 -> 12 | F16: ='Witek na centy'!F30 -> 0 | G16: ='Witek na centy'!G30 -> 4 | H16: ='Witek na centy'!H30 -> 8 | I16: ='Witek na centy'!I30 -> -4 | ... M16: ='Witek na centy'!M30 -> 4
B19: CENTS TO FRACTIONS
B20: Name of the temperament (optional): | E20: Neidhardt Dorf 1732
B21: INSERT the cents from your table / machine (deviations from equal temperament), preferably rounded to whole numbers:
A22: C | B22: A | C22: Bb | D22: B | E22: C | F22: C# | G22: D | H22: Eb | I22: E | J22: F | K22: F# | L22: G | M22: G#
B23: 2 | C23: 3 | D23: 4 | E23: 5 | F23: 6 | G23: 7 | H23: 8 | I23: 9 | J23: 0 | K23: -12 | L23: 6 | M23: 5
B25: END RESULTS in fractions of a comma (appearing on the tuning circle to the right):
B26: C-G | C26: G-D | D26: D-A | E26: A-E | F26: E-B | G26: B-F# | H26: F#-C# | I26: C#-G# | J26: G#-Eb | K26: Eb-Bb | L26: Bb-F | M26: F-C
B27: ='Witek na kółka'!B43 -> 0 | C27: ='Witek na kółka'!C43 -> 0 | D27: ='Witek na kółka'!D43 -> -0.28571429 | E27: ='Witek na kółka'!E43 -> 0.2 | F27: ='Witek na kółka'!F43 -> -0.28571429 | G27: ='Witek na kółka'!G43 -> -0.75 | H27: ='Witek na kółka'!H43 -> 0.6667 | I27: ='Witek na kółka'!I43 -> -0.125 | ... M27: ='Witek na kółka'!M43 -> 0.125
B29: If resulting fractions appear unnecessarily complex, try different ways of rounding cents to whole numbers or halves, eg 3,2 = 3 ; 3,3 = 3,5 ; 3,6 = 4
B32: To check if fractions are logical, keep in mind that the sum of all cells should be (approximately) -1. Now the sum is: | M32: =SUM(B27:M27) -> -0.89874286
M34: =SUM(B12:M12) -> -1
C42: FRACTIONS TO CENTS | D42: Name of the temperament (optional): | E42: INSERT the fractions of the selected temperament : | F42: C-G | G42: -0.25
F43: G-D | G43: -0.25
F44: D-A | G44: -0.25
F45: A-E | G45: -0.25
F46: E-B | G46: -0.25
F47: B-F# | G47: -0.25
F48: F#-C# | G48: -0.25
F49: C#-G# | G49: -0.25
F50: G#-Eb | G50: 1.75
F51: Eb-Bb | G51: -0.25
F52: Bb-F | G52: -0.25
F53: F-C | G53: -0.25

Sheet Arkusz1

Sheet Witek na kółka
B2: A | C2: B | D2: H | E2: C | F2: Cs | G2: D | H2: Es | I2: E | J2: F | K2: Fs | L2: G | M2: Gs
B3: =CONVERTER!B23 -> 2 | C3: =CONVERTER!C23 -> 3 | D3: =CONVERTER!D23 -> 4 | E3: =CONVERTER!E23 -> 5 | F3: =CONVERTER!F23 -> 6 | G3: =CONVERTER!G23 -> 7 | H3: =CONVERTER!H23 -> 8 | I3: =CONVERTER!I23 -> 9 | ... M3: =CONVERTER!M23 -> 5
B5: A | C5: B | D5: H | E5: C | F5: Cs | G5: D | H5: Es | I5: E | J5: F | K5: Fs | L5: G | M5: Gs
B6: 0 | C6: 100 | D6: 200 | E6: 300 | F6: 400 | G6: 500 | H6: 600 | I6: 700 | J6: 800 | K6: 900 | L6: 1000 | M6: 1100
B8: A | C8: B | D8: H | E8: C | F8: Cs | G8: D | H8: Es | I8: E | J8: F | K8: Fs | L8: G | M8: Gs
B9: =B6+B3 -> 2 | C9: =C6+C3 -> 103 | D9: =D6+D3 -> 204 | E9: =E6+E3 -> 305 | F9: =F6+F3 -> 406 | G9: =G6+G3 -> 507 | H9: =H6+H3 -> 608 | I9: =I6+I3 -> 709 | ... M9: =M6+M3 -> 1105
B11: CG | C11: GD | D11: DA | E11: AE | F11: EH | G11: HFs | H11: FsCs | I11: CsGs | J11: GsDs | K11: EsB | L11: BF | M11: FC
B12: =L9-E9 -> 701 | C12: =G9-L9 -> -499 | D12: =B9-G9 -> -505 | E12: =I9-B9 -> 707 | F12: =D9-I9 -> -505 | G12: =K9-D9 -> 684 | H12: =F9-K9 -> -482 | I12: =M9-F9 -> 699 | J12: =H9-M9 -> -497 | K12: =C9-H9 -> -505 | L12: =J9-C9 -> 697 | M12: =E9-J9 -> -495
B14: CG | C14: GD | D14: DA | E14: AE | F14: EH | G14: HFs | H14: FsCs | I14: CsGs | J14: GsDs | K14: EsB | L14: BF | M14: FC
B15: =IF(B12<0,B12+1200,B12) -> 701 | C15: =IF(C12<0,C12+1200,C12) -> 701 | D15: =IF(D12<0,D12+1200,D12) -> 695 | E15: =IF(E12<0,E12+1200,E12) -> 707 | F15: =IF(F12<0,F12+1200,F12) -> 695 | G15: =IF(G12<0,G12+1200,G12) -> 684 | H15: =IF(H12<0,H12+1200,H12) -> 718 | I15: =IF(I12<0,I12+1200,I12) -> 699 | ... M15: =IF(M12<0,M12+1200,M12) -> 705
B17: CG | C17: GD | D17: DA | E17: AE | F17: EH | G17: HFs | H17: FsCs | I17: CsGs | J17: GsDs | K17: EsB | L17: BF | M17: FC
B18: =B15-702 -> -1 | C18: =C15-702 -> -1 | D18: =D15-702 -> -7 | E18: =E15-702 -> 5 | F18: =F15-702 -> -7 | G18: =G15-702 -> -18 | H18: =H15-702 -> 16 | I18: =I15-702 -> -3 | ... M18: =M15-702 -> 3
B20: =ROUND(B18/24,4) -> -0.0417 | C20: =ROUND(C18/24,4) -> -0.0417 | D20: =ROUND(D18/24,4) -> -0.2917 | E20: =ROUND(E18/24,4) -> 0.2083 | F20: =ROUND(F18/24,4) -> -0.2917 | G20: =ROUND(G18/24,4) -> -0.75 | H20: =ROUND(H18/24,4) -> 0.6667 | I20: =ROUND(I18/24,4) -> -0.125 | ... M20: =ROUND(M18/24,4) -> 0.125
A23: -1 | B23: {=IF(MIN(ABS($O23:$AC23-B20))<0.001,$A23,B20)} -> -0.0417 | C23: {=IF(MIN(ABS($O23:$AC23-C20))<0.001,$A23,C20)} -> -0.0417 | D23: {=IF(MIN(ABS($O23:$AC23-D20))<0.001,$A23,D20)} -> -0.2917 | E23: {=IF(MIN(ABS($O23:$AC23-E20))<0.001,$A23,E20)} -> 0.2083 | F23: {=IF(MIN(ABS($O23:$AC23-F20))<0.001,$A23,F20)} -> -0.2917 | G23: {=IF(MIN(ABS($O23:$AC23-G20))<0.001,$A23,G20)} -> -0.75 | H23: {=IF(MIN(ABS($O23:$AC23-H20))<0.001,$A23,H20)} -> 0.6667 | I23: {=IF(MIN(ABS($O23:$AC23-I20))<0.001,$A23,I20)} -> -0.125 | ... M23: {=IF(MIN(ABS($O23:$AC23-M20))<0.001,$A23,M20)} -> 0.125 | O23: =IF(ISBLANK(Rounding!B3),1000,Rounding!B3) -> -0.9 | P23: =IF(ISBLANK(Rounding!C3),1000,Rounding!C3) -> -0.89583333 | Q23: =IF(ISBLANK(Rounding!D3),1000,Rounding!D3) -> -0.97916667 | R23: =IF(ISBLANK(Rounding!E3),1000,Rounding!E3) -> 1000 | S23: =IF(ISBLANK(Rounding!F3),1000,Rounding!F3) -> 1000 | T23: =IF(ISBLANK(Rounding!G3),1000,Rounding!G3) -> 1000 | U23: =IF(ISBLANK(Rounding!H3),1000,Rounding!H3) -> 1000 | V23: =IF(ISBLANK(Rounding!I3),1000,Rounding!I3) -> 1000 | ... AC23: =IF(ISBLANK(Rounding!P3),1000,Rounding!P3) -> 1000
A24: 1 | B24: {=IF(MIN(ABS($O24:$AC24-B23))<0.001,$A24,B23)} -> -0.0417 | C24: {=IF(MIN(ABS($O24:$AC24-C23))<0.001,$A24,C23)} -> -0.0417 | D24: {=IF(MIN(ABS($O24:$AC24-D23))<0.001,$A24,D23)} -> -0.2917 | E24: {=IF(MIN(ABS($O24:$AC24-E23))<0.001,$A24,E23)} -> 0.2083 | F24: {=IF(MIN(ABS($O24:$AC24-F23))<0.001,$A24,F23)} -> -0.2917 | G24: {=IF(MIN(ABS($O24:$AC24-G23))<0.001,$A24,G23)} -> -0.75 | H24: {=IF(MIN(ABS($O24:$AC24-H23))<0.001,$A24,H23)} -> 0.6667 | I24: {=IF(MIN(ABS($O24:$AC24-I23))<0.001,$A24,I23)} -> -0.125 | ... M24: {=IF(MIN(ABS($O24:$AC24-M23))<0.001,$A24,M23)} -> 0.125 | O24: =IF(ISBLANK(Rounding!B42),1000,Rounding!B42) -> 0.9 | P24: =IF(ISBLANK(Rounding!C42),1000,Rounding!C42) -> 0.8958 | Q24: =IF(ISBLANK(Rounding!D42),1000,Rounding!D42) -> 0.9792 | R24: =IF(ISBLANK(Rounding!E42),1000,Rounding!E42) -> 1000 | S24: =IF(ISBLANK(Rounding!F42),1000,Rounding!F42) -> 1000 | T24: =IF(ISBLANK(Rounding!G42),1000,Rounding!G42) -> 1000 | U24: =IF(ISBLANK(Rounding!H42),1000,Rounding!H42) -> 1000 | V24: =IF(ISBLANK(Rounding!I42),1000,Rounding!I42) -> 1000 | ... AC24: =IF(ISBLANK(Rounding!P42),1000,Rounding!P42) -> 1000
A25: -0.5 | B25: {=IF(MIN(ABS($O25:$AC25-B24))<0.001,$A25,B24)} -> -0.0417 | C25: {=IF(MIN(ABS($O25:$AC25-C24))<0.001,$A25,C24)} -> -0.0417 | D25: {=IF(MIN(ABS($O25:$AC25-D24))<0.001,$A25,D24)} -> -0.2917 | E25: {=IF(MIN(ABS($O25:$AC25-E24))<0.001,$A25,E24)} -> 0.2083 | F25: {=IF(MIN(ABS($O25:$AC25-F24))<0.001,$A25,F24)} -> -0.2917 | G25: {=IF(MIN(ABS($O25:$AC25-G24))<0.001,$A25,G24)} -> -0.75 | H25: {=IF(MIN(ABS($O25:$AC25-H24))<0.001,$A25,H24)} -> 0.6667 | I25: {=IF(MIN(ABS($O25:$AC25-I24))<0.001,$A25,I24)} -> -0.125 | ... M25: {=IF(MIN(ABS($O25:$AC25-M24))<0.001,$A25,M24)} -> 0.125 | O25: =IF(ISBLANK(Rounding!B4),1000,Rounding!B4) -> -0.45833333 | P25: =IF(ISBLANK(Rounding!C4),1000,Rounding!C4) -> -0.4375 | Q25: =IF(ISBLANK(Rounding!D4),1000,Rounding!D4) -> -0.41666667 | R25: =IF(ISBLANK(Rounding!E4),1000,Rounding!E4) -> -0.39583333 | S25: =IF(ISBLANK(Rounding!F4),1000,Rounding!F4) -> -0.47916667 | T25: =IF(ISBLANK(Rounding!G4),1000,Rounding!G4) -> -0.47058824 | U25: =IF(ISBLANK(Rounding!H4),1000,Rounding!H4) -> -0.45 | V25: =IF(ISBLANK(Rounding!I4),1000,Rounding!I4) -> -0.4875 | ... AC25: =IF(ISBLANK(Rounding!P4),1000,Rounding!P4) -> -0.49056604
A26: 0.5 | B26: {=IF(MIN(ABS($O26:$AC26-B25))<0.001,$A26,B25)} -> -0.0417 | C26: {=IF(MIN(ABS($O26:$AC26-C25))<0.001,$A26,C25)} -> -0.0417 | D26: {=IF(MIN(ABS($O26:$AC26-D25))<0.001,$A26,D25)} -> -0.2917 | E26: {=IF(MIN(ABS($O26:$AC26-E25))<0.001,$A26,E25)} -> 0.2083 | F26: {=IF(MIN(ABS($O26:$AC26-F25))<0.001,$A26,F25)} -> -0.2917 | G26: {=IF(MIN(ABS($O26:$AC26-G25))<0.001,$A26,G25)} -> -0.75 | H26: {=IF(MIN(ABS($O26:$AC26-H25))<0.001,$A26,H25)} -> 0.6667 | I26: {=IF(MIN(ABS($O26:$AC26-I25))<0.001,$A26,I25)} -> -0.125 | ... M26: {=IF(MIN(ABS($O26:$AC26-M25))<0.001,$A26,M25)} -> 0.125 | O26: =IF(ISBLANK(Rounding!B43),1000,Rounding!B43) -> 0.4583 | P26: =IF(ISBLANK(Rounding!C43),1000,Rounding!C43) -> 0.4375 | Q26: =IF(ISBLANK(Rounding!D43),1000,Rounding!D43) -> 0.4167 | R26: =IF(ISBLANK(Rounding!E43),1000,Rounding!E43) -> 0.3958 | S26: =IF(ISBLANK(Rounding!F43),1000,Rounding!F43) -> 0.4792 | T26: =IF(ISBLANK(Rounding!G43),1000,Rounding!G43) -> 0.4706 | U26: =IF(ISBLANK(Rounding!H43),1000,Rounding!H43) -> 0.45 | V26: =IF(ISBLANK(Rounding!I43),1000,Rounding!I43) -> 0.4875 | ... AC26: =IF(ISBLANK(Rounding!P43),1000,Rounding!P43) -> 0.4906
A27: -0.33333333 | B27: {=IF(MIN(ABS($O27:$AC27-B26))<0.001,$A27,B26)} -> -0.0417 | C27: {=IF(MIN(ABS($O27:$AC27-C26))<0.001,$A27,C26)} -> -0.0417 | D27: {=IF(MIN(ABS($O27:$AC27-D26))<0.001,$A27,D26)} -> -0.2917 | E27: {=IF(MIN(ABS($O27:$AC27-E26))<0.001,$A27,E26)} -> 0.2083 | F27: {=IF(MIN(ABS($O27:$AC27-F26))<0.001,$A27,F26)} -> -0.2917 | G27: {=IF(MIN(ABS($O27:$AC27-G26))<0.001,$A27,G26)} -> -0.75 | H27: {=IF(MIN(ABS($O27:$AC27-H26))<0.001,$A27,H26)} -> 0.6667 | I27: {=IF(MIN(ABS($O27:$AC27-I26))<0.001,$A27,I26)} -> -0.125 | ... M27: {=IF(MIN(ABS($O27:$AC27-M26))<0.001,$A27,M26)} -> 0.125 | O27: =IF(ISBLANK(Rounding!B18),1000,Rounding!B18) -> -0.3291 | P27: =IF(ISBLANK(Rounding!C18),1000,Rounding!C18) -> -0.325 | Q27: =IF(ISBLANK(Rounding!D18),1000,Rounding!D18) -> -0.3 | R27: =IF(ISBLANK(Rounding!E18),1000,Rounding!E18) -> -0.3889 | S27: =IF(ISBLANK(Rounding!F18),1000,Rounding!F18) -> -0.3276 | T27: =IF(ISBLANK(Rounding!G18),1000,Rounding!G18) -> 1000 | U27: =IF(ISBLANK(Rounding!H18),1000,Rounding!H18) -> 1000 | V27: =IF(ISBLANK(Rounding!I18),1000,Rounding!I18) -> 1000 | ... AC27: =IF(ISBLANK(Rounding!P18),1000,Rounding!P18) -> 1000
A28: 0.33333333 | B28: {=IF(MIN(ABS($O28:$AC28-B27))<0.001,$A28,B27)} -> -0.0417 | C28: {=IF(MIN(ABS($O28:$AC28-C27))<0.001,$A28,C27)} -> -0.0417 | D28: {=IF(MIN(ABS($O28:$AC28-D27))<0.001,$A28,D27)} -> -0.2917 | E28: {=IF(MIN(ABS($O28:$AC28-E27))<0.001,$A28,E27)} -> 0.2083 | F28: {=IF(MIN(ABS($O28:$AC28-F27))<0.001,$A28,F27)} -> -0.2917 | G28: {=IF(MIN(ABS($O28:$AC28-G27))<0.001,$A28,G27)} -> -0.75 | H28: {=IF(MIN(ABS($O28:$AC28-H27))<0.001,$A28,H27)} -> 0.6667 | I28: {=IF(MIN(ABS($O28:$AC28-I27))<0.001,$A28,I27)} -> -0.125 | ... M28: {=IF(MIN(ABS($O28:$AC28-M27))<0.001,$A28,M27)} -> 0.125 | O28: =IF(ISBLANK(Rounding!B44),1000,Rounding!B44) -> 0.3291 | P28: =IF(ISBLANK(Rounding!C44),1000,Rounding!C44) -> 0.325 | Q28: =IF(ISBLANK(Rounding!D44),1000,Rounding!D44) -> 0.3 | R28: =IF(ISBLANK(Rounding!E44),1000,Rounding!E44) -> 0.3889 | S28: =IF(ISBLANK(Rounding!F44),1000,Rounding!F44) -> 0.3276 | T28: =IF(ISBLANK(Rounding!G44),1000,Rounding!G44) -> 1000 | U28: =IF(ISBLANK(Rounding!H44),1000,Rounding!H44) -> 1000 | V28: =IF(ISBLANK(Rounding!I44),1000,Rounding!I44) -> 1000 | ... AC28: =IF(ISBLANK(Rounding!P44),1000,Rounding!P44) -> 1000
A29: -0.25 | B29: {=IF(MIN(ABS($O29:$AC29-B28))<0.001,$A29,B28)} -> -0.0417 | C29: {=IF(MIN(ABS($O29:$AC29-C28))<0.001,$A29,C28)} -> -0.0417 | D29: {=IF(MIN(ABS($O29:$AC29-D28))<0.001,$A29,D28)} -> -0.2917 | E29: {=IF(MIN(ABS($O29:$AC29-E28))<0.001,$A29,E28)} -> 0.2083 | F29: {=IF(MIN(ABS($O29:$AC29-F28))<0.001,$A29,F28)} -> -0.2917 | G29: {=IF(MIN(ABS($O29:$AC29-G28))<0.001,$A29,G28)} -> -0.75 | H29: {=IF(MIN(ABS($O29:$AC29-H28))<0.001,$A29,H28)} -> 0.6667 | I29: {=IF(MIN(ABS($O29:$AC29-I28))<0.001,$A29,I28)} -> -0.125 | ... M29: {=IF(MIN(ABS($O29:$AC29-M28))<0.001,$A29,M28)} -> 0.125 | O29: =IF(ISBLANK(Rounding!B19),1000,Rounding!B19) -> -0.2708 | P29: =IF(ISBLANK(Rounding!C19),1000,Rounding!C19) -> -0.2459 | Q29: =IF(ISBLANK(Rounding!D19),1000,Rounding!D19) -> -0.2667 | R29: =IF(ISBLANK(Rounding!E19),1000,Rounding!E19) -> -0.2414 | S29: =IF(ISBLANK(Rounding!F19),1000,Rounding!F19) -> -0.2542 | T29: =IF(ISBLANK(Rounding!G19),1000,Rounding!G19) -> -0.2727 | U29: =IF(ISBLANK(Rounding!H19),1000,Rounding!H19) -> -0.2391 | V29: =IF(ISBLANK(Rounding!I19),1000,Rounding!I19) -> -0.2464 | ... AC29: =IF(ISBLANK(Rounding!P19),1000,Rounding!P19) -> 1000
A30: 0.25 | B30: {=IF(MIN(ABS($O30:$AC30-B29))<0.001,$A30,B29)} -> -0.0417 | C30: {=IF(MIN(ABS($O30:$AC30-C29))<0.001,$A30,C29)} -> -0.0417 | D30: {=IF(MIN(ABS($O30:$AC30-D29))<0.001,$A30,D29)} -> -0.2917 | E30: {=IF(MIN(ABS($O30:$AC30-E29))<0.001,$A30,E29)} -> 0.2083 | F30: {=IF(MIN(ABS($O30:$AC30-F29))<0.001,$A30,F29)} -> -0.2917 | G30: {=IF(MIN(ABS($O30:$AC30-G29))<0.001,$A30,G29)} -> -0.75 | H30: {=IF(MIN(ABS($O30:$AC30-H29))<0.001,$A30,H29)} -> 0.6667 | I30: {=IF(MIN(ABS($O30:$AC30-I29))<0.001,$A30,I29)} -> -0.125 | ... M30: {=IF(MIN(ABS($O30:$AC30-M29))<0.001,$A30,M29)} -> 0.125 | O30: =IF(ISBLANK(Rounding!B45),1000,Rounding!B45) -> 0.2708 | P30: =IF(ISBLANK(Rounding!C45),1000,Rounding!C45) -> 0.2459 | Q30: =IF(ISBLANK(Rounding!D45),1000,Rounding!D45) -> 0.2667 | R30: =IF(ISBLANK(Rounding!E45),1000,Rounding!E45) -> 0.2414 | S30: =IF(ISBLANK(Rounding!F45),1000,Rounding!F45) -> 0.2542 | T30: =IF(ISBLANK(Rounding!G45),1000,Rounding!G45) -> 0.2727 | U30: =IF(ISBLANK(Rounding!H45),1000,Rounding!H45) -> 0.2391 | V30: =IF(ISBLANK(Rounding!I45),1000,Rounding!I45) -> 0.2464 | ... AC30: =IF(ISBLANK(Rounding!P45),1000,Rounding!P45) -> 1000
A31: -0.2 | B31: {=IF(MIN(ABS($O31:$AC31-B30))<0.001,$A31,B30)} -> -0.0417 | C31: {=IF(MIN(ABS($O31:$AC31-C30))<0.001,$A31,C30)} -> -0.0417 | D31: {=IF(MIN(ABS($O31:$AC31-D30))<0.001,$A31,D30)} -> -0.2917 | E31: {=IF(MIN(ABS($O31:$AC31-E30))<0.001,$A31,E30)} -> 0.2083 | F31: {=IF(MIN(ABS($O31:$AC31-F30))<0.001,$A31,F30)} -> -0.2917 | G31: {=IF(MIN(ABS($O31:$AC31-G30))<0.001,$A31,G30)} -> -0.75 | H31: {=IF(MIN(ABS($O31:$AC31-H30))<0.001,$A31,H30)} -> 0.6667 | I31: {=IF(MIN(ABS($O31:$AC31-I30))<0.001,$A31,I30)} -> -0.125 | ... M31: {=IF(MIN(ABS($O31:$AC31-M30))<0.001,$A31,M30)} -> 0.125 | O31: =IF(ISBLANK(Rounding!B20),1000,Rounding!B20) -> -0.2083 | P31: =IF(ISBLANK(Rounding!C20),1000,Rounding!C20) -> -0.2292 | Q31: =IF(ISBLANK(Rounding!D20),1000,Rounding!D20) -> -0.1875 | R31: =IF(ISBLANK(Rounding!E20),1000,Rounding!E20) -> -0.225 | S31: =IF(ISBLANK(Rounding!F20),1000,Rounding!F20) -> -0.2208 | T31: =IF(ISBLANK(Rounding!G20),1000,Rounding!G20) -> -0.1959 | U31: =IF(ISBLANK(Rounding!H20),1000,Rounding!H20) -> -0.1625 | V31: =IF(ISBLANK(Rounding!I20),1000,Rounding!I20) -> -0.175 | ... AC31: =IF(ISBLANK(Rounding!P20),1000,Rounding!P20) -> 1000
A32: 0.2 | B32: {=IF(MIN(ABS($O32:$AC32-B31))<0.001,$A32,B31)} -> -0.0417 | C32: {=IF(MIN(ABS($O32:$AC32-C31))<0.001,$A32,C31)} -> -0.0417 | D32: {=IF(MIN(ABS($O32:$AC32-D31))<0.001,$A32,D31)} -> -0.2917 | E32: {=IF(MIN(ABS($O32:$AC32-E31))<0.001,$A32,E31)} -> 0.2 | F32: {=IF(MIN(ABS($O32:$AC32-F31))<0.001,$A32,F31)} -> -0.2917 | G32: {=IF(MIN(ABS($O32:$AC32-G31))<0.001,$A32,G31)} -> -0.75 | H32: {=IF(MIN(ABS($O32:$AC32-H31))<0.001,$A32,H31)} -> 0.6667 | I32: {=IF(MIN(ABS($O32:$AC32-I31))<0.001,$A32,I31)} -> -0.125 | ... M32: {=IF(MIN(ABS($O32:$AC32-M31))<0.001,$A32,M31)} -> 0.125 | O32: =IF(ISBLANK(Rounding!B46),1000,Rounding!B46) -> 0.2083 | P32: =IF(ISBLANK(Rounding!C46),1000,Rounding!C46) -> 0.2292 | Q32: =IF(ISBLANK(Rounding!D46),1000,Rounding!D46) -> 0.1875 | R32: =IF(ISBLANK(Rounding!E46),1000,Rounding!E46) -> 0.225 | S32: =IF(ISBLANK(Rounding!F46),1000,Rounding!F46) -> 0.2208 | T32: =IF(ISBLANK(Rounding!G46),1000,Rounding!G46) -> 0.1959 | U32: =IF(ISBLANK(Rounding!H46),1000,Rounding!H46) -> 0.1625 | V32: =IF(ISBLANK(Rounding!I46),1000,Rounding!I46) -> 0.175 | ... AC32: =IF(ISBLANK(Rounding!P46),1000,Rounding!P46) -> 1000
A33: -0.16666667 | B33: {=IF(MIN(ABS($O33:$AC33-B32))<0.001,$A33,B32)} -> -0.0417 | C33: {=IF(MIN(ABS($O33:$AC33-C32))<0.001,$A33,C32)} -> -0.0417 | D33: {=IF(MIN(ABS($O33:$AC33-D32))<0.001,$A33,D32)} -> -0.2917 | E33: {=IF(MIN(ABS($O33:$AC33-E32))<0.001,$A33,E32)} -> 0.2 | F33: {=IF(MIN(ABS($O33:$AC33-F32))<0.001,$A33,F32)} -> -0.2917 | G33: {=IF(MIN(ABS($O33:$AC33-G32))<0.001,$A33,G32)} -> -0.75 | H33: {=IF(MIN(ABS($O33:$AC33-H32))<0.001,$A33,H32)} -> 0.6667 | I33: {=IF(MIN(ABS($O33:$AC33-I32))<0.001,$A33,I32)} -> -0.125 | ... M33: {=IF(MIN(ABS($O33:$AC33-M32))<0.001,$A33,M32)} -> 0.125 | O33: =IF(ISBLANK(Rounding!B21),1000,Rounding!B21) -> -0.1625 | P33: =IF(ISBLANK(Rounding!C21),1000,Rounding!C21) -> -0.175 | Q33: =IF(ISBLANK(Rounding!D21),1000,Rounding!D21) -> -0.1648 | R33: =IF(ISBLANK(Rounding!E21),1000,Rounding!E21) -> 0.1609 | S33: =IF(ISBLANK(Rounding!F21),1000,Rounding!F21) -> 1000 | T33: =IF(ISBLANK(Rounding!G21),1000,Rounding!G21) -> 1000 | U33: =IF(ISBLANK(Rounding!H21),1000,Rounding!H21) -> 1000 | V33: =IF(ISBLANK(Rounding!I21),1000,Rounding!I21) -> 1000 | ... AC33: =IF(ISBLANK(Rounding!P21),1000,Rounding!P21) -> 1000
A34: 0.16666667 | B34: {=IF(MIN(ABS($O34:$AC34-B33))<0.001,$A34,B33)} -> -0.0417 | C34: {=IF(MIN(ABS($O34:$AC34-C33))<0.001,$A34,C33)} -> -0.0417 | D34: {=IF(MIN(ABS($O34:$AC34-D33))<0.001,$A34,D33)} -> -0.2917 | E34: {=IF(MIN(ABS($O34:$AC34-E33))<0.001,$A34,E33)} -> 0.2 | F34: {=IF(MIN(ABS($O34:$AC34-F33))<0.001,$A34,F33)} -> -0.2917 | G34: {=IF(MIN(ABS($O34:$AC34-G33))<0.001,$A34,G33)} -> -0.75 | H34: {=IF(MIN(ABS($O34:$AC34-H33))<0.001,$A34,H33)} -> 0.6667 | I34: {=IF(MIN(ABS($O34:$AC34-I33))<0.001,$A34,I33)} -> -0.125 | ... M34: {=IF(MIN(ABS($O34:$AC34-M33))<0.001,$A34,M33)} -> 0.125 | O34: =IF(ISBLANK(Rounding!B47),1000,Rounding!B47) -> 0.1625 | P34: =IF(ISBLANK(Rounding!C47),1000,Rounding!C47) -> 0.175 | Q34: =IF(ISBLANK(Rounding!D47),1000,Rounding!D47) -> 0.1648 | R34: =IF(ISBLANK(Rounding!E47),1000,Rounding!E47) -> -0.1609 | S34: =IF(ISBLANK(Rounding!F47),1000,Rounding!F47) -> 1000 | T34: =IF(ISBLANK(Rounding!G47),1000,Rounding!G47) -> 1000 | U34: =IF(ISBLANK(Rounding!H47),1000,Rounding!H47) -> 1000 | V34: =IF(ISBLANK(Rounding!I47),1000,Rounding!I47) -> 1000 | ... AC34: =IF(ISBLANK(Rounding!P47),1000,Rounding!P47) -> 1000
A35: -0.14285714 | B35: {=IF(MIN(ABS($O35:$AC35-B34))<0.001,$A35,B34)} -> -0.0417 | C35: {=IF(MIN(ABS($O35:$AC35-C34))<0.001,$A35,C34)} -> -0.0417 | D35: {=IF(MIN(ABS($O35:$AC35-D34))<0.001,$A35,D34)} -> -0.2917 | E35: {=IF(MIN(ABS($O35:$AC35-E34))<0.001,$A35,E34)} -> 0.2 | F35: {=IF(MIN(ABS($O35:$AC35-F34))<0.001,$A35,F34)} -> -0.2917 | G35: {=IF(MIN(ABS($O35:$AC35-G34))<0.001,$A35,G34)} -> -0.75 | H35: {=IF(MIN(ABS($O35:$AC35-H34))<0.001,$A35,H34)} -> 0.6667 | I35: {=IF(MIN(ABS($O35:$AC35-I34))<0.001,$A35,I34)} -> -0.125 | ... M35: {=IF(MIN(ABS($O35:$AC35-M34))<0.001,$A35,M34)} -> 0.125 | O35: =IF(ISBLANK(Rounding!B22),1000,Rounding!B22) -> -0.1458 | P35: =IF(ISBLANK(Rounding!C22),1000,Rounding!C22) -> -0.1375 | Q35: =IF(ISBLANK(Rounding!D22),1000,Rounding!D22) -> -0.1414 | R35: =IF(ISBLANK(Rounding!E22),1000,Rounding!E22) -> 1000 | S35: =IF(ISBLANK(Rounding!F22),1000,Rounding!F22) -> 1000 | T35: =IF(ISBLANK(Rounding!G22),1000,Rounding!G22) -> 1000 | U35: =IF(ISBLANK(Rounding!H22),1000,Rounding!H22) -> 1000 | V35: =IF(ISBLANK(Rounding!I22),1000,Rounding!I22) -> 1000 | ... AC35: =IF(ISBLANK(Rounding!P22),1000,Rounding!P22) -> 1000
A36: 0.14285714 | B36: {=IF(MIN(ABS($O36:$AC36-B35))<0.001,$A36,B35)} -> -0.0417 | C36: {=IF(MIN(ABS($O36:$AC36-C35))<0.001,$A36,C35)} -> -0.0417 | D36: {=IF(MIN(ABS($O36:$AC36-D35))<0.001,$A36,D35)} -> -0.2917 | E36: {=IF(MIN(ABS($O36:$AC36-E35))<0.001,$A36,E35)} -> 0.2 | F36: {=IF(MIN(ABS($O36:$AC36-F35))<0.001,$A36,F35)} -> -0.2917 | G36: {=IF(MIN(ABS($O36:$AC36-G35))<0.001,$A36,G35)} -> -0.75 | H36: {=IF(MIN(ABS($O36:$AC36-H35))<0.001,$A36,H35)} -> 0.6667 | I36: {=IF(MIN(ABS($O36:$AC36-I35))<0.001,$A36,I35)} -> -0.125 | ... M36: {=IF(MIN(ABS($O36:$AC36-M35))<0.001,$A36,M35)} -> 0.125 | O36: =IF(ISBLANK(Rounding!B48),1000,Rounding!B48) -> 0.1458 | P36: =IF(ISBLANK(Rounding!C48),1000,Rounding!C48) -> 0.1375 | Q36: =IF(ISBLANK(Rounding!D48),1000,Rounding!D48) -> 0.1414 | R36: =IF(ISBLANK(Rounding!E48),1000,Rounding!E48) -> 1000 | S36: =IF(ISBLANK(Rounding!F48),1000,Rounding!F48) -> 1000 | T36: =IF(ISBLANK(Rounding!G48),1000,Rounding!G48) -> 1000 | U36: =IF(ISBLANK(Rounding!H48),1000,Rounding!H48) -> 1000 | V36: =IF(ISBLANK(Rounding!I48),1000,Rounding!I48) -> 1000 | ... AC36: =IF(ISBLANK(Rounding!P48),1000,Rounding!P48) -> 1000
A37: -0.125 | B37: {=IF(MIN(ABS($O37:$AC37-B36))<0.001,$A37,B36)} -> -0.0417 | C37: {=IF(MIN(ABS($O37:$AC37-C36))<0.001,$A37,C36)} -> -0.0417 | D37: {=IF(MIN(ABS($O37:$AC37-D36))<0.001,$A37,D36)} -> -0.2917 | E37: {=IF(MIN(ABS($O37:$AC37-E36))<0.001,$A37,E36)} -> 0.2 | F37: {=IF(MIN(ABS($O37:$AC37-F36))<0.001,$A37,F36)} -> -0.2917 | G37: {=IF(MIN(ABS($O37:$AC37-G36))<0.001,$A37,G36)} -> -0.75 | H37: {=IF(MIN(ABS($O37:$AC37-H36))<0.001,$A37,H36)} -> 0.6667 | I37: {=IF(MIN(ABS($O37:$AC37-I36))<0.001,$A37,I36)} -> -0.125 | ... M37: {=IF(MIN(ABS($O37:$AC37-M36))<0.001,$A37,M36)} -> 0.125 | O37: =IF(ISBLANK(Rounding!B23),1000,Rounding!B23) -> -0.129 | P37: =IF(ISBLANK(Rounding!C23),1000,Rounding!C23) -> -0.1209 | Q37: =IF(ISBLANK(Rounding!D23),1000,Rounding!D23) -> -0.1176 | R37: =IF(ISBLANK(Rounding!E23),1000,Rounding!E23) -> -0.1237 | S37: =IF(ISBLANK(Rounding!F23),1000,Rounding!F23) -> -0.1228 | T37: =IF(ISBLANK(Rounding!G23),1000,Rounding!G23) -> 1000 | U37: =IF(ISBLANK(Rounding!H23),1000,Rounding!H23) -> 1000 | V37: =IF(ISBLANK(Rounding!I23),1000,Rounding!I23) -> 1000 | ... AC37: =IF(ISBLANK(Rounding!P23),1000,Rounding!P23) -> 1000
A38: 0.125 | B38: {=IF(MIN(ABS($O38:$AC38-B37))<0.001,$A38,B37)} -> -0.0417 | C38: {=IF(MIN(ABS($O38:$AC38-C37))<0.001,$A38,C37)} -> -0.0417 | D38: {=IF(MIN(ABS($O38:$AC38-D37))<0.001,$A38,D37)} -> -0.2917 | E38: {=IF(MIN(ABS($O38:$AC38-E37))<0.001,$A38,E37)} -> 0.2 | F38: {=IF(MIN(ABS($O38:$AC38-F37))<0.001,$A38,F37)} -> -0.2917 | G38: {=IF(MIN(ABS($O38:$AC38-G37))<0.001,$A38,G37)} -> -0.75 | H38: {=IF(MIN(ABS($O38:$AC38-H37))<0.001,$A38,H37)} -> 0.6667 | I38: {=IF(MIN(ABS($O38:$AC38-I37))<0.001,$A38,I37)} -> -0.125 | ... M38: {=IF(MIN(ABS($O38:$AC38-M37))<0.001,$A38,M37)} -> 0.125 | O38: =IF(ISBLANK(Rounding!B49),1000,Rounding!B49) -> 0.129 | P38: =IF(ISBLANK(Rounding!C49),1000,Rounding!C49) -> 0.1209 | Q38: =IF(ISBLANK(Rounding!D49),1000,Rounding!D49) -> 0.1176 | R38: =IF(ISBLANK(Rounding!E49),1000,Rounding!E49) -> 0.1237 | S38: =IF(ISBLANK(Rounding!F49),1000,Rounding!F49) -> 0.1228 | T38: =IF(ISBLANK(Rounding!G49),1000,Rounding!G49) -> 1000 | U38: =IF(ISBLANK(Rounding!H49),1000,Rounding!H49) -> 1000 | V38: =IF(ISBLANK(Rounding!I49),1000,Rounding!I49) -> 1000 | ... AC38: =IF(ISBLANK(Rounding!P49),1000,Rounding!P49) -> 1000
A39: -0.28571429 | B39: {=IF(MIN(ABS($O39:$AC39-B38))<0.001,$A39,B38)} -> -0.0417 | C39: {=IF(MIN(ABS($O39:$AC39-C38))<0.001,$A39,C38)} -> -0.0417 | D39: {=IF(MIN(ABS($O39:$AC39-D38))<0.001,$A39,D38)} -> -0.28571429 | E39: {=IF(MIN(ABS($O39:$AC39-E38))<0.001,$A39,E38)} -> 0.2 | F39: {=IF(MIN(ABS($O39:$AC39-F38))<0.001,$A39,F38)} -> -0.28571429 | G39: {=IF(MIN(ABS($O39:$AC39-G38))<0.001,$A39,G38)} -> -0.75 | H39: {=IF(MIN(ABS($O39:$AC39-H38))<0.001,$A39,H38)} -> 0.6667 | I39: {=IF(MIN(ABS($O39:$AC39-I38))<0.001,$A39,I38)} -> -0.125 | ... M39: {=IF(MIN(ABS($O39:$AC39-M38))<0.001,$A39,M38)} -> 0.125 | O39: =IF(ISBLANK(Rounding!B24),1000,Rounding!B24) -> -0.2584 | P39: =IF(ISBLANK(Rounding!C24),1000,Rounding!C24) -> -0.2581 | Q39: =IF(ISBLANK(Rounding!D24),1000,Rounding!D24) -> -0.2917 | R39: =IF(ISBLANK(Rounding!E24),1000,Rounding!E24) -> -0.2576 | S39: =IF(ISBLANK(Rounding!F24),1000,Rounding!F24) -> 1000 | T39: =IF(ISBLANK(Rounding!G24),1000,Rounding!G24) -> 1000 | U39: =IF(ISBLANK(Rounding!H24),1000,Rounding!H24) -> 1000 | V39: =IF(ISBLANK(Rounding!I24),1000,Rounding!I24) -> 1000 | ... AC39: =IF(ISBLANK(Rounding!P24),1000,Rounding!P24) -> 1000
A40: =2/7 -> 0.28571429 | B40: {=IF(MIN(ABS($O40:$AC40-B39))<0.001,$A40,B39)} -> -0.0417 | C40: {=IF(MIN(ABS($O40:$AC40-C39))<0.001,$A40,C39)} -> -0.0417 | D40: {=IF(MIN(ABS($O40:$AC40-D39))<0.001,$A40,D39)} -> -0.28571429 | E40: {=IF(MIN(ABS($O40:$AC40-E39))<0.001,$A40,E39)} -> 0.2 | F40: {=IF(MIN(ABS($O40:$AC40-F39))<0.001,$A40,F39)} -> -0.28571429 | G40: {=IF(MIN(ABS($O40:$AC40-G39))<0.001,$A40,G39)} -> -0.75 | H40: {=IF(MIN(ABS($O40:$AC40-H39))<0.001,$A40,H39)} -> 0.6667 | I40: {=IF(MIN(ABS($O40:$AC40-I39))<0.001,$A40,I39)} -> -0.125 | ... M40: {=IF(MIN(ABS($O40:$AC40-M39))<0.001,$A40,M39)} -> 0.125 | O40: =IF(ISBLANK(Rounding!B50),1000,Rounding!B50) -> 0.2584 | P40: =IF(ISBLANK(Rounding!C50),1000,Rounding!C50) -> 0.2581 | Q40: =IF(ISBLANK(Rounding!D50),1000,Rounding!D50) -> 0.2917 | R40: =IF(ISBLANK(Rounding!E50),1000,Rounding!E50) -> 0.2576 | S40: =IF(ISBLANK(Rounding!F50),1000,Rounding!F50) -> 1000 | T40: =IF(ISBLANK(Rounding!G50),1000,Rounding!G50) -> 1000 | U40: =IF(ISBLANK(Rounding!H50),1000,Rounding!H50) -> 1000 | V40: =IF(ISBLANK(Rounding!I50),1000,Rounding!I50) -> 1000 | ... AC40: =IF(ISBLANK(Rounding!P50),1000,Rounding!P50) -> 1000
A41: -0.083333333 | B41: {=IF(MIN(ABS($O41:$AC41-B40))<0.001,$A41,B40)} -> -0.0417 | C41: {=IF(MIN(ABS($O41:$AC41-C40))<0.001,$A41,C40)} -> -0.0417 | D41: {=IF(MIN(ABS($O41:$AC41-D40))<0.001,$A41,D40)} -> -0.28571429 | E41: {=IF(MIN(ABS($O41:$AC41-E40))<0.001,$A41,E40)} -> 0.2 | F41: {=IF(MIN(ABS($O41:$AC41-F40))<0.001,$A41,F40)} -> -0.28571429 | G41: {=IF(MIN(ABS($O41:$AC41-G40))<0.001,$A41,G40)} -> -0.75 | H41: {=IF(MIN(ABS($O41:$AC41-H40))<0.001,$A41,H40)} -> 0.6667 | I41: {=IF(MIN(ABS($O41:$AC41-I40))<0.001,$A41,I40)} -> -0.125 | ... M41: {=IF(MIN(ABS($O41:$AC41-M40))<0.001,$A41,M40)} -> 0.125 | O41: =IF(ISBLANK(Rounding!B25),1000,Rounding!B25) -> -0.0789 | P41: =IF(ISBLANK(Rounding!C25),1000,Rounding!C25) -> -0.0816 | Q41: =IF(ISBLANK(Rounding!D25),1000,Rounding!D25) -> 1000 | R41: =IF(ISBLANK(Rounding!E25),1000,Rounding!E25) -> 1000 | S41: =IF(ISBLANK(Rounding!F25),1000,Rounding!F25) -> 1000 | T41: =IF(ISBLANK(Rounding!G25),1000,Rounding!G25) -> 1000 | U41: =IF(ISBLANK(Rounding!H25),1000,Rounding!H25) -> 1000 | V41: =IF(ISBLANK(Rounding!I25),1000,Rounding!I25) -> 1000 | ... AC41: =IF(ISBLANK(Rounding!P25),1000,Rounding!P25) -> 1000
A42: 0.083333333 | B42: {=IF(MIN(ABS($O42:$AC42-B41))<0.001,$A42,B41)} -> -0.0417 | C42: {=IF(MIN(ABS($O42:$AC42-C41))<0.001,$A42,C41)} -> -0.0417 | D42: {=IF(MIN(ABS($O42:$AC42-D41))<0.001,$A42,D41)} -> -0.28571429 | E42: {=IF(MIN(ABS($O42:$AC42-E41))<0.001,$A42,E41)} -> 0.2 | F42: {=IF(MIN(ABS($O42:$AC42-F41))<0.001,$A42,F41)} -> -0.28571429 | G42: {=IF(MIN(ABS($O42:$AC42-G41))<0.001,$A42,G41)} -> -0.75 | H42: {=IF(MIN(ABS($O42:$AC42-H41))<0.001,$A42,H41)} -> 0.6667 | I42: {=IF(MIN(ABS($O42:$AC42-I41))<0.001,$A42,I41)} -> -0.125 | ... M42: {=IF(MIN(ABS($O42:$AC42-M41))<0.001,$A42,M41)} -> 0.125 | O42: =IF(ISBLANK(Rounding!B51),1000,Rounding!B51) -> 0.0789 | P42: =IF(ISBLANK(Rounding!C51),1000,Rounding!C51) -> 0.0816 | Q42: =IF(ISBLANK(Rounding!D51),1000,Rounding!D51) -> 1000 | R42: =IF(ISBLANK(Rounding!E51),1000,Rounding!E51) -> 1000 | S42: =IF(ISBLANK(Rounding!F51),1000,Rounding!F51) -> 1000 | T42: =IF(ISBLANK(Rounding!G51),1000,Rounding!G51) -> 1000 | U42: =IF(ISBLANK(Rounding!H51),1000,Rounding!H51) -> 1000 | V42: =IF(ISBLANK(Rounding!I51),1000,Rounding!I51) -> 1000 | ... AC42: =IF(ISBLANK(Rounding!P51),1000,Rounding!P51) -> 1000
A43: 0 | B43: {=IF(MIN(ABS($O43:$AC43-B42))<0.001,$A43,B42)} -> 0 | C43: {=IF(MIN(ABS($O43:$AC43-C42))<0.001,$A43,C42)} -> 0 | D43: {=IF(MIN(ABS($O43:$AC43-D42))<0.001,$A43,D42)} -> -0.28571429 | E43: {=IF(MIN(ABS($O43:$AC43-E42))<0.001,$A43,E42)} -> 0.2 | F43: {=IF(MIN(ABS($O43:$AC43-F42))<0.001,$A43,F42)} -> -0.28571429 | G43: {=IF(MIN(ABS($O43:$AC43-G42))<0.001,$A43,G42)} -> -0.75 | H43: {=IF(MIN(ABS($O43:$AC43-H42))<0.001,$A43,H42)} -> 0.6667 | I43: {=IF(MIN(ABS($O43:$AC43-I42))<0.001,$A43,I42)} -> -0.125 | ... M43: {=IF(MIN(ABS($O43:$AC43-M42))<0.001,$A43,M42)} -> 0.125 | O43: =IF(ISBLANK(Rounding!B26),1000,Rounding!B26) -> -0.0417 | P43: =IF(ISBLANK(Rounding!C26),1000,Rounding!C26) -> -0.0208 | Q43: =IF(ISBLANK(Rounding!D26),1000,Rounding!D26) -> -0.025 | R43: =IF(ISBLANK(Rounding!E26),1000,Rounding!E26) -> -0.0125 | S43: =IF(ISBLANK(Rounding!F26),1000,Rounding!F26) -> 1000 | T43: =IF(ISBLANK(Rounding!G26),1000,Rounding!G26) -> 1000 | U43: =IF(ISBLANK(Rounding!H26),1000,Rounding!H26) -> 1000 | V43: =IF(ISBLANK(Rounding!I26),1000,Rounding!I26) -> 1000 | ... AC43: =IF(ISBLANK(Rounding!P26),1000,Rounding!P26) -> 1000
A44: 0 | B44: {=IF(MIN(ABS($O44:$AC44-B43))<0.001,$A44,B43)} -> 0 | C44: {=IF(MIN(ABS($O44:$AC44-C43))<0.001,$A44,C43)} -> 0 | D44: {=IF(MIN(ABS($O44:$AC44-D43))<0.001,$A44,D43)} -> -0.28571429 | E44: {=IF(MIN(ABS($O44:$AC44-E43))<0.001,$A44,E43)} -> 0.2 | F44: {=IF(MIN(ABS($O44:$AC44-F43))<0.001,$A44,F43)} -> -0.28571429 | G44: {=IF(MIN(ABS($O44:$AC44-G43))<0.001,$A44,G43)} -> -0.75 | H44: {=IF(MIN(ABS($O44:$AC44-H43))<0.001,$A44,H43)} -> 0.6667 | I44: {=IF(MIN(ABS($O44:$AC44-I43))<0.001,$A44,I43)} -> -0.125 | ... M44: {=IF(MIN(ABS($O44:$AC44-M43))<0.001,$A44,M43)} -> 0.125 | O44: =IF(ISBLANK(Rounding!B52),1000,Rounding!B52) -> 0.0417 | P44: =IF(ISBLANK(Rounding!C52),1000,Rounding!C52) -> 0.0208 | Q44: =IF(ISBLANK(Rounding!D52),1000,Rounding!D52) -> 0.025 | R44: =IF(ISBLANK(Rounding!E52),1000,Rounding!E52) -> 0.0125 | S44: =IF(ISBLANK(Rounding!F52),1000,Rounding!F52) -> 1000 | T44: =IF(ISBLANK(Rounding!G52),1000,Rounding!G52) -> 1000 | U44: =IF(ISBLANK(Rounding!H52),1000,Rounding!H52) -> 1000 | V44: =IF(ISBLANK(Rounding!I52),1000,Rounding!I52) -> 1000 | ... AC44: =IF(ISBLANK(Rounding!P52),1000,Rounding!P52) -> 1000

Sheet Rounding
A2: NORMAL -
A3: =-1 -> -1 | B3: =-9/10 -> -0.9 | C3: =-43/48 -> -0.89583333 | D3: =-47/48 -> -0.97916667
A4: =-1/2 -> -0.5 | B4: -0.45833333 | C4: -0.4375 | D4: -0.41666667 | E4: =-19/48 -> -0.39583333 | F4: =-23/48 -> -0.47916667 | G4: =-8/17 -> -0.47058824 | H4: =-9/20 -> -0.45 | I4: =-39/80 -> -0.4875 | J4: =-13/24 -> -0.54166667 | K4: =-9/20 -> -0.45 | L4: =-39/80 -> -0.4875 | M4: =-13/24 -> -0.54166667 | N4: =-29/59 -> -0.49152542 | O4: =-41/80 -> -0.5125 | P4: =-26/53 -> -0.49056604
A5: =-1/3 -> -0.33333333 | B5: -0.32911392 | C5: -0.325 | D5: =-3/10 -> -0.3 | E5: =-7/18 -> -0.38888889 | F5: =-19/58 -> -0.32758621
A6: =-1/4 -> -0.25 | B6: -0.27083333 | C6: -0.24590164 | D6: -0.26666667 | E6: -0.24137931 | F6: -0.25423729 | G6: =-3/11 -> -0.27272727 | H6: =-11/46 -> -0.23913043 | I6: =-17/69 -> -0.24637681 | J6: =-16/65 -> -0.24615385 | K6: =-8/33 -> -0.24242424
A7: =-1/5 -> -0.2 | B7: -0.20833333 | C7: -0.22916667 | D7: =-3/16 -> -0.1875 | E7: =-9/40 -> -0.225 | F7: =-17/77 -> -0.22077922 | G7: =-19/97 -> -0.19587629 | H7: -0.1625 | I7: -0.175 | J7: =-11/60 -> -0.18333333 | K7: =-7/31 -> -0.22580645 | L7: =-2/11 -> -0.18181818 | M7: =-15/76 -> -0.19736842 | N7: =-6/31 -> -0.19354839 | O7: =-15/73 -> -0.20547945
A8: =-1/6 -> -0.16666667 | B8: -0.1625 | C8: -0.175 | D8: =-15/91 -> -0.16483516 | E8: =14/87 -> 0.16091954
A9: =-1/7 -> -0.14285714 | B9: -0.14583333 | C9: -0.1375 | D9: =-14/99 -> -0.14141414
A10: =-1/8 -> -0.125 | B10: -0.12903226 | C10: -0.12087912 | D10: =-2/17 -> -0.11764706 | E10: =-12/97 -> -0.12371134 | F10: =-7/57 -> -0.12280702
A11: =-2/7 -> -0.28571429 | B11: -0.25842697 | C11: =-8/31 -> -0.25806452 | D11: =-7/24 -> -0.29166667 | E11: =-17/66 -> -0.25757576
A12: =-1/12 -> -0.083333333 | B12: -0.078947368 | C12: -0.081632653
A13: =0 -> 0 | B13: -0.041666667 | C13: -0.020833333 | D13: -0.025 | E13: -0.0125
A15: ROUNDING -
A16: =-1 -> -1 | B16: =ROUND(B3,4) -> -0.9 | C16: =ROUND(C3,4) -> -0.8958 | D16: =ROUND(D3,4) -> -0.9792
A17: =-1/2 -> -0.5 | B17: =ROUND(B4,4) -> -0.4583 | C17: =ROUND(C4,4) -> -0.4375 | D17: =ROUND(D4,4) -> -0.4167 | E17: =ROUND(E4,4) -> -0.3958 | F17: =ROUND(F4,4) -> -0.4792 | G17: =ROUND(G4,4) -> -0.4706 | H17: =ROUND(H4,4) -> -0.45 | I17: =ROUND(I4,4) -> -0.4875 | ... P17: =ROUND(P4,4) -> -0.4906
A18: =-1/3 -> -0.33333333 | B18: =ROUND(B5,4) -> -0.3291 | C18: =ROUND(C5,4) -> -0.325 | D18: =ROUND(D5,4) -> -0.3 | E18: =ROUND(E5,4) -> -0.3889 | F18: =ROUND(F5,4) -> -0.3276
A19: =-1/4 -> -0.25 | B19: =ROUND(B6,4) -> -0.2708 | C19: =ROUND(C6,4) -> -0.2459 | D19: =ROUND(D6,4) -> -0.2667 | E19: =ROUND(E6,4) -> -0.2414 | F19: =ROUND(F6,4) -> -0.2542 | G19: =ROUND(G6,4) -> -0.2727 | H19: =ROUND(H6,4) -> -0.2391 | I19: =ROUND(I6,4) -> -0.2464 | ... K19: =ROUND(K6,4) -> -0.2424
A20: =-1/5 -> -0.2 | B20: =ROUND(B7,4) -> -0.2083 | C20: =ROUND(C7,4) -> -0.2292 | D20: =ROUND(D7,4) -> -0.1875 | E20: =ROUND(E7,4) -> -0.225 | F20: =ROUND(F7,4) -> -0.2208 | G20: =ROUND(G7,4) -> -0.1959 | H20: =ROUND(H7,4) -> -0.1625 | I20: =ROUND(I7,4) -> -0.175 | ... O20: =ROUND(O7,4) -> -0.2055
A21: =-1/6 -> -0.16666667 | B21: =ROUND(B8,4) -> -0.1625 | C21: =ROUND(C8,4) -> -0.175 | D21: =ROUND(D8,4) -> -0.1648 | E21: =ROUND(E8,4) -> 0.1609
A22: =-1/7 -> -0.14285714 | B22: =ROUND(B9,4) -> -0.1458 | C22: =ROUND(C9,4) -> -0.1375 | D22: =ROUND(D9,4) -> -0.1414
A23: =-1/8 -> -0.125 | B23: =ROUND(B10,4) -> -0.129 | C23: =ROUND(C10,4) -> -0.1209 | D23: =ROUND(D10,4) -> -0.1176 | E23: =ROUND(E10,4) -> -0.1237 | F23: =ROUND(F10,4) -> -0.1228
A24: =-2/7 -> -0.28571429 | B24: =ROUND(B11,4) -> -0.2584 | C24: =ROUND(C11,4) -> -0.2581 | D24: =ROUND(D11,4) -> -0.2917 | E24: =ROUND(E11,4) -> -0.2576
A25: =-1/12 -> -0.083333333 | B25: =ROUND(B12,4) -> -0.0789 | C25: =ROUND(C12,4) -> -0.0816
A26: =0 -> 0 | B26: =ROUND(B13,4) -> -0.0417 | C26: =ROUND(C13,4) -> -0.0208 | D26: =ROUND(D13,4) -> -0.025 | E26: =ROUND(E13,4) -> -0.0125
A28: NORMAL +
A29: =1 -> 1 | B29: =B3-2*B3 -> 0.9 | C29: =C3-2*C3 -> 0.89583333 | D29: =D3-2*D3 -> 0.97916667
A30: =1/2 -> 0.5 | B30: =B4-2*B4 -> 0.45833333 | C30: =C4-2*C4 -> 0.4375 | D30: =D4-2*D4 -> 0.41666667 | E30: =E4-2*E4 -> 0.39583333 | F30: =F4-2*F4 -> 0.47916667 | G30: =G4-2*G4 -> 0.47058824 | H30: =H4-2*H4 -> 0.45 | I30: =I4-2*I4 -> 0.4875 | ... P30: =P4-2*P4 -> 0.49056604
A31: =1/3 -> 0.33333333 | B31: =B5-2*B5 -> 0.32911392 | C31: =C5-2*C5 -> 0.325 | D31: =D5-2*D5 -> 0.3 | E31: =E5-2*E5 -> 0.38888889 | F31: =F5-2*F5 -> 0.32758621
A32: =1/4 -> 0.25 | B32: =B6-2*B6 -> 0.27083333 | C32: =C6-2*C6 -> 0.24590164 | D32: =D6-2*D6 -> 0.26666667 | E32: =E6-2*E6 -> 0.24137931 | F32: =F6-2*F6 -> 0.25423729 | G32: =G6-2*G6 -> 0.27272727 | H32: =H6-2*H6 -> 0.23913043 | I32: =I6-2*I6 -> 0.24637681 | ... K32: =K6-2*K6 -> 0.24242424
A33: =1/5 -> 0.2 | B33: =B7-2*B7 -> 0.20833333 | C33: =C7-2*C7 -> 0.22916667 | D33: =D7-2*D7 -> 0.1875 | E33: =E7-2*E7 -> 0.225 | F33: =F7-2*F7 -> 0.22077922 | G33: =G7-2*G7 -> 0.19587629 | H33: =H7-2*H7 -> 0.1625 | I33: =I7-2*I7 -> 0.175 | ... O33: =O7-2*O7 -> 0.20547945
A34: =1/6 -> 0.16666667 | B34: =B8-2*B8 -> 0.1625 | C34: =C8-2*C8 -> 0.175 | D34: =D8-2*D8 -> 0.16483516 | E34: =E8-2*E8 -> -0.16091954
A35: =1/7 -> 0.14285714 | B35: =B9-2*B9 -> 0.14583333 | C35: =C9-2*C9 -> 0.1375 | D35: =D9-2*D9 -> 0.14141414
A36: =1/8 -> 0.125 | B36: =B10-2*B10 -> 0.12903226 | C36: =C10-2*C10 -> 0.12087912 | D36: =D10-2*D10 -> 0.11764706 | E36: =E10-2*E10 -> 0.12371134 | F36: =F10-2*F10 -> 0.12280702
A37: =2/7 -> 0.28571429 | B37: =B11-2*B11 -> 0.25842697 | C37: =C11-2*C11 -> 0.25806452 | D37: =D11-2*D11 -> 0.29166667 | E37: =E11-2*E11 -> 0.25757576
A38: =1/12 -> 0.083333333 | B38: =B12-2*B12 -> 0.078947368 | C38: =C12-2*C12 -> 0.081632653
A39: 0 | B39: =B13-2*B13 -> 0.041666667 | C39: =C13-2*C13 -> 0.020833333 | D39: =D13-2*D13 -> 0.025 | E39: =E13-2*E13 -> 0.0125
A41: ROUNDING +
A42: =1 -> 1 | B42: =ROUND(B29,4) -> 0.9 | C42: =ROUND(C29,4) -> 0.8958 | D42: =ROUND(D29,4) -> 0.9792
A43: =1/2 -> 0.5 | B43: =ROUND(B30,4) -> 0.4583 | C43: =ROUND(C30,4) -> 0.4375 | D43: =ROUND(D30,4) -> 0.4167 | E43: =ROUND(E30,4) -> 0.3958 | F43: =ROUND(F30,4) -> 0.4792 | G43: =ROUND(G30,4) -> 0.4706 | H43: =ROUND(H30,4) -> 0.45 | I43: =ROUND(I30,4) -> 0.4875 | ... P43: =ROUND(P30,4) -> 0.4906
A44: =1/3 -> 0.33333333 | B44: =ROUND(B31,4) -> 0.3291 | C44: =ROUND(C31,4) -> 0.325 | D44: =ROUND(D31,4) -> 0.3 | E44: =ROUND(E31,4) -> 0.3889 | F44: =ROUND(F31,4) -> 0.3276
...

Sheet Witek na centy
B3: CG | C3: GD | D3: DA | E3: AE | F3: EH | G3: HFs | H3: FsCs | I3: CsGs | J3: GsDs | K3: EsB | L3: BF | M3: FC
B4: =CONVERTER!B12 -> -0.25 | C4: =CONVERTER!C12 -> -0.25 | D4: =CONVERTER!D12 -> -0.25 | E4: =CONVERTER!E12 -> -0.25 | F4: =CONVERTER!F12 -> -0.25 | G4: =CONVERTER!G12 -> 0 | H4: =CONVERTER!H12 -> 0.16666667 | I4: =CONVERTER!I12 -> 0.083333333 | ... M4: =CONVERTER!M12 -> -0.25
B6: CG | C6: GD | D6: DA | E6: AE | F6: EH | G6: HFs | H6: FsCs | I6: CsGs | J6: GsDs | K6: EsB | L6: BF | M6: FC
A7: PC | B7: =B4*24 -> -6 | C7: =C4*24 -> -6 | D7: =D4*24 -> -6 | E7: =E4*24 -> -6 | F7: =F4*24 -> -6 | G7: =G4*24 -> 0 | H7: =H4*24 -> 4 | I7: =I4*24 -> 2 | ... M7: =M4*24 -> -6
B9: CG | C9: GD | D9: DA | E9: AE | F9: EH | G9: HFs | H9: FsCs | I9: CsGs | J9: GsDs | K9: EsB | L9: BF | M9: FC
B10: =702+B7 -> 696 | C10: =702+C7 -> 696 | D10: =702+D7 -> 696 | E10: =702+E7 -> 696 | F10: =702+F7 -> 696 | G10: =702+G7 -> 702 | H10: =702+H7 -> 706 | I10: =702+I7 -> 704 | ... M10: =702+M7 -> 696
B12: CG | C12: GD | D12: DA | E12: AE | F12: EH | G12: HFs | H12: FsCs | I12: CsGs | J12: GsDs | K12: EsB | L12: BF | M12: FC
B13: =B10 -> 696 | C13: =B10+C10 -> 1392 | D13: =C14+D10 -> 888 | E13: =D14+E10 -> 1584 | F13: =E14+F10 -> 1080 | G13: =F14+G10 -> 1782 | H13: =G14+H10 -> 1288 | I13: =H14+I10 -> 792 | J13: =I14+J10 -> 1496 | K13: =J14+K10 -> 1000 | ... M13: =L14+M10 -> 1200
B14: =B13 -> 696 | C14: =IF(C13>1200,C13-1200,C13) -> 192 | D14: =IF(D13>1200,D13-1200,D13) -> 888 | E14: =IF(E13>1200,E13-1200,E13) -> 384 | F14: =IF(F13>1200,F13-1200,F13) -> 1080 | G14: =IF(G13>1200,G13-1200,G13) -> 582 | H14: =IF(H13>1200,H13-1200,H13) -> 88 | I14: =IF(I13>1200,I13-1200,I13) -> 792 | J14: =IF(J13>1200,J13-1200,J13) -> 296 | ... M14: =IF(M13>1200,M13-1200,M13) -> 1200
B16: CG | C16: GD | D16: DA | E16: AE | F16: EH | G16: HFs | H16: FsCs | I16: CsGs | J16: GsDs | K16: EsB | L16: BF | M16: FC
B17: =B14 -> 696 | C17: =C14 -> 192 | D17: =D14 -> 888 | E17: =E14 -> 384 | F17: =F14 -> 1080 | G17: =G14 -> 582 | H17: =H14 -> 88 | I17: =I14 -> 792 | ... L17: =L14 -> 504 | M17: =IF(M14=1200,0,M14) -> 0
B19: C | C19: Cs | D19: D | E19: Es | F19: E | G19: F | H19: Fs | I19: G | J19: Gs | K19: A | L19: B | M19: H
B20: 0 | C20: 100 | D20: 200 | E20: 300 | F20: 400 | G20: 500 | H20: 600 | I20: 700 | J20: 800 | K20: 900 | L20: 1000 | M20: 1100
B22: C | C22: Cs | D22: D | E22: Es | F22: E | G22: F | H22: Fs | I22: G | J22: Gs | K22: A | L22: B | M22: H
B23: 0 | C23: -4 | D23: -4 | E23: -2 | F23: -6 | G23: -2 | H23: -4 | I23: -4 | J23: -4 | K23: -6 | L23: -2 | M23: -4
B25: A | C25: B | D25: H | E25: C | F25: Cs | G25: D | H25: Es | I25: E | J25: F | K25: Fs | L25: G | M25: Gs
B26: 0 | C26: =K17-D14 -> 112 | D26: =F17-D14 -> 192 | E26: =M13-D14 -> 312 | F26: =H14-D14 -> -800 | G26: =C17-D14 -> -696 | H26: =J17-D14 -> -592 | I26: =E17-D14 -> -504 | J26: =L17-D14 -> -384 | K26: =G17-D14 -> -306 | L26: =B17-D14 -> -192 | M26: =I17-D14 -> -96
B27: =IF(B26<0,B26+1200,B26) -> 0 | C27: =IF(C26<0,C26+1200,C26) -> 112 | D27: =IF(D26<0,D26+1200,D26) -> 192 | E27: =IF(E26<0,E26+1200,E26) -> 312 | F27: =IF(F26<0,F26+1200,F26) -> 400 | G27: =IF(G26<0,G26+1200,G26) -> 504 | H27: =IF(H26<0,H26+1200,H26) -> 608 | I27: =IF(I26<0,I26+1200,I26) -> 696 | ... M27: =IF(M26<0,M26+1200,M26) -> 1104
B29: A | C29: B | D29: H | E29: C | F29: Cs | G29: D | H29: Es | I29: E | J29: F | K29: Fs | L29: G | M29: Gs
B30: =B27 -> 0 | C30: =C27-C20 -> 12 | D30: =D27-D20 -> -8 | E30: =E27-E20 -> 12 | F30: =F27-F20 -> 0 | G30: =G27-G20 -> 4 | H30: =H27-H20 -> 8 | I30: =I27-I20 -> -4 | J30: =J27-J20 -> 16 | ... M30: =M27-M20 -> 4

Sheet Table info
A1: C | B1: 0.2
A2: =CONVERTER!B27 -> 0 | B2: 0.2
A3: G | B3: 0.2
A4: =CONVERTER!C27 -> 0 | B4: 0.2
A5: D | B5: 0.2
A6: =CONVERTER!D27 -> -0.28571429 | B6: 0.2
A7: A | B7: 0.2
A8: =CONVERTER!E27 -> 0.2 | B8: 0.2
A9: E | B9: 0.2
A10: =CONVERTER!F27 -> -0.28571429 | B10: 0.2
A11: B | B11: 0.2
A12: =CONVERTER!G27 -> -0.75 | B12: 0.2
A13: F# | B13: 0.2
A14: =CONVERTER!H27 -> 0.6667 | B14: 0.2
A15: C# | B15: 0.2
A16: =CONVERTER!I27 -> -0.125 | B16: 0.2
A17: G# | B17: 0.2
A18: =CONVERTER!J27 -> 0.0417 | B18: 0.2
A19: Eb | B19: 0.2
A20: =CONVERTER!K27 -> -0.28571429 | B20: 0.2
A21: Bb | B21: 0.2
A22: =CONVERTER!L27 -> -0.2 | B22: 0.2
A23: F | B23: 0.2
A24: =CONVERTER!M27 -> 0.125 | B24: 0.2

Sheet Export Summary
B3: This document was exported from Numbers. Each table was converted to an Excel worksheet. All other objects on each Numbers sheet were placed on separate worksheets. Please be aware that formula calculations may differ in Excel.
B7: Numbers Sheet Name | C7: Numbers Table Name | D7: Excel Worksheet Name
B9: CALCULATIONS
C10: Table 1 | D10: CALCULATIONS
B11: Table info
C12: Table 1 | D12: Table info
B13: Witek na centy
C14: Table 1 | D14: Witek na centy
B15: Witek na kółka
C16: Table 1 | D16: Witek na kółka
